BEGIN:VCALENDAR
VERSION:2.0
PRODID:-//Royal Yacht Club of Tasmania - ECPv4.6.11.1//NONSGML v1.0//EN
CALSCALE:GREGORIAN
METHOD:PUBLISH
X-WR-CALNAME:Royal Yacht Club of Tasmania
X-ORIGINAL-URL:https://www.ryct.org.au
X-WR-CALDESC:Events for Royal Yacht Club of Tasmania
BEGIN:VEVENT
DTSTART;TZID=Australia/Hobart:20180130T193000
DTEND;TZID=Australia/Hobart:20180130T203000
DTSTAMP:20180226T151503
CREATED:20170829T022452Z
LAST-MODIFIED:20170829T022452Z
UID:7038-1517340600-1517344200@www.ryct.org.au
SUMMARY:RYCT Trivia Night
DESCRIPTION: \n
URL:https://www.ryct.org.au/event/ryct-trivia-night-30/
LOCATION:Marieville Esplanade\, Sandy Bay\, Tasmania\, 7005\, Australia
CATEGORIES:Social
END:VEVENT
BEGIN:VEVENT
DTSTART;TZID=Australia/Hobart:20180206T193000
DTEND;TZID=Australia/Hobart:20180206T203000
DTSTAMP:20180226T151503
CREATED:20170829T234915Z
LAST-MODIFIED:20170829T234915Z
UID:7070-1517945400-1517949000@www.ryct.org.au
SUMMARY:RYCT Trivia Night
DESCRIPTION:
URL:https://www.ryct.org.au/event/ryct-trivia-night-31/
LOCATION:Marieville Esplanade\, Sandy Bay\, Tasmania\, 7005\, Australia
CATEGORIES:Social
END:VEVENT
BEGIN:VEVENT
DTSTART;VALUE=DATE:20180207
DTEND;VALUE=DATE:20180208
DTSTAMP:20180226T151503
CREATED:20170829T234351Z
LAST-MODIFIED:20170829T234351Z
UID:7057-1517961600-1518047999@www.ryct.org.au
SUMMARY:Midweek Series 2 - Race 5
DESCRIPTION:
URL:https://www.ryct.org.au/event/midweek-series-2-race-5/
LOCATION:Marieville Esplanade\, Sandy Bay\, Tasmania\, 7005\, Australia
CATEGORIES:Sailing
END:VEVENT
BEGIN:VEVENT
DTSTART;VALUE=DATE:20180208
DTEND;VALUE=DATE:20180209
DTSTAMP:20180226T151503
CREATED:20170829T234426Z
LAST-MODIFIED:20170829T234426Z
UID:7059-1518048000-1518134399@www.ryct.org.au
SUMMARY:Post - Christmas Twilight
DESCRIPTION:
URL:https://www.ryct.org.au/event/post-christmas-twilight-7/
LOCATION:Marieville Esplanade\, Sandy Bay\, Tasmania\, 7005\, Australia
CATEGORIES:Sailing
END:VEVENT
BEGIN:VEVENT
DTSTART;VALUE=DATE:20180210
DTEND;VALUE=DATE:20180211
DTSTAMP:20180226T151503
CREATED:20170829T234537Z
LAST-MODIFIED:20170829T234537Z
UID:7062-1518220800-1518307199@www.ryct.org.au
SUMMARY:Bruny Island Race
DESCRIPTION:
URL:https://www.ryct.org.au/event/bruny-island-race-2/
LOCATION:Marieville Esplanade\, Sandy Bay\, Tasmania\, 7005\, Australia
CATEGORIES:Sailing
END:VEVENT
BEGIN:VEVENT
DTSTART;VALUE=DATE:20180212
DTEND;VALUE=DATE:20180213
DTSTAMP:20180226T151503
CREATED:20170829T234614Z
LAST-MODIFIED:20170829T234614Z
UID:7064-1518393600-1518479999@www.ryct.org.au
SUMMARY:Combined Clubs Summer Pennant Day 7
DESCRIPTION:
URL:https://www.ryct.org.au/event/combined-clubs-summer-pennant-day-7/
LOCATION:Marieville Esplanade\, Sandy Bay\, Tasmania\, 7005\, Australia
CATEGORIES:Sailing
END:VEVENT
BEGIN:VEVENT
DTSTART;TZID=Australia/Hobart:20180213T193000
DTEND;TZID=Australia/Hobart:20180213T203000
DTSTAMP:20180226T151503
CREATED:20170829T234949Z
LAST-MODIFIED:20170829T234949Z
UID:7072-1518550200-1518553800@www.ryct.org.au
SUMMARY:RYCT Trivia Night
DESCRIPTION:
URL:https://www.ryct.org.au/event/ryct-trivia-night-32/
LOCATION:Marieville Esplanade\, Sandy Bay\, Tasmania\, 7005\, Australia
CATEGORIES:Social
END:VEVENT
BEGIN:VEVENT
DTSTART;TZID=Australia/Hobart:20180220T193000
DTEND;TZID=Australia/Hobart:20180220T203000
DTSTAMP:20180226T151503
CREATED:20170829T235026Z
LAST-MODIFIED:20170829T235026Z
UID:7074-1519155000-1519158600@www.ryct.org.au
SUMMARY:RYCT Trivia Night
DESCRIPTION:
URL:https://www.ryct.org.au/event/ryct-trivia-night-33/
LOCATION:Marieville Esplanade\, Sandy Bay\, Tasmania\, 7005\, Australia
CATEGORIES:Social
END:VEVENT
BEGIN:VEVENT
DTSTART;VALUE=DATE:20180222
DTEND;VALUE=DATE:20180223
DTSTAMP:20180226T151503
CREATED:20170829T234648Z
LAST-MODIFIED:20170829T234648Z
UID:7066-1519257600-1519343999@www.ryct.org.au
SUMMARY:Post - Christmas Twilight
DESCRIPTION:
URL:https://www.ryct.org.au/event/post-christmas-twilight-8/
LOCATION:Marieville Esplanade\, Sandy Bay\, Tasmania\, 7005\, Australia
CATEGORIES:Sailing
END:VEVENT
BEGIN:VEVENT
DTSTART;TZID=Australia/Hobart:20180227T193000
DTEND;TZID=Australia/Hobart:20180227T203000
DTSTAMP:20180226T151503
CREATED:20170829T235107Z
LAST-MODIFIED:20170829T235107Z
UID:7076-1519759800-1519763400@www.ryct.org.au
SUMMARY:RYCT Trivia Night
DESCRIPTION:
URL:https://www.ryct.org.au/event/ryct-trivia-night-34/
LOCATION:Marieville Esplanade\, Sandy Bay\, Tasmania\, 7005\, Australia
CATEGORIES:Social
END:VEVENT
BEGIN:VEVENT
DTSTART;VALUE=DATE:20180228
DTEND;VALUE=DATE:20180301
DTSTAMP:20180226T151503
CREATED:20170829T234740Z
LAST-MODIFIED:20170829T234740Z
UID:7068-1519776000-1519862399@www.ryct.org.au
SUMMARY:Midweek Series 2 - Race 8
DESCRIPTION:
URL:https://www.ryct.org.au/event/midweek-series-2-race-8/
LOCATION:Marieville Esplanade\, Sandy Bay\, Tasmania\, 7005\, Australia
CATEGORIES:Sailing
END:VEVENT
BEGIN:VEVENT
DTSTART;VALUE=DATE:20180302
DTEND;VALUE=DATE:20180303
DTSTAMP:20180226T151503
CREATED:20170829T235330Z
LAST-MODIFIED:20170829T235330Z
UID:7079-1519948800-1520035199@www.ryct.org.au
SUMMARY:Rotary Charity Sail Day
DESCRIPTION:
URL:https://www.ryct.org.au/event/rotary-charity-sail-day-2/
LOCATION:Marieville Esplanade\, Sandy Bay\, Tasmania\, 7005\, Australia
CATEGORIES:Sailing
END:VEVENT
BEGIN:VEVENT
DTSTART;VALUE=DATE:20180303
DTEND;VALUE=DATE:20180304
DTSTAMP:20180226T151503
CREATED:20170829T235404Z
LAST-MODIFIED:20170829T235404Z
UID:7081-1520035200-1520121599@www.ryct.org.au
SUMMARY:Combined Clubs Summer Pennant Day 8
DESCRIPTION:
URL:https://www.ryct.org.au/event/combined-clubs-summer-pennant-day-8/
LOCATION:Marieville Esplanade\, Sandy Bay\, Tasmania\, 7005\, Australia
CATEGORIES:Sailing
END:VEVENT
END:VCALENDAR